BEGIN:VCALENDAR
VERSION:2.0
PRODID:-//Boyne City Main Street - ECPv6.15.18//NONSGML v1.0//EN
CALSCALE:GREGORIAN
METHOD:PUBLISH
X-ORIGINAL-URL:https://boynecitymainstreet.com
X-WR-CALDESC:Events for Boyne City Main Street
REFRESH-INTERVAL;VALUE=DURATION:PT1H
X-Robots-Tag:noindex
X-PUBLISHED-TTL:PT1H
BEGIN:VTIMEZONE
TZID:America/New_York
BEGIN:DAYLIGHT
TZOFFSETFROM:-0500
TZOFFSETTO:-0400
TZNAME:EDT
DTSTART:20250309T070000
END:DAYLIGHT
BEGIN:STANDARD
TZOFFSETFROM:-0400
TZOFFSETTO:-0500
TZNAME:EST
DTSTART:20251102T060000
END:STANDARD
BEGIN:DAYLIGHT
TZOFFSETFROM:-0500
TZOFFSETTO:-0400
TZNAME:EDT
DTSTART:20260308T070000
END:DAYLIGHT
BEGIN:STANDARD
TZOFFSETFROM:-0400
TZOFFSETTO:-0500
TZNAME:EST
DTSTART:20261101T060000
END:STANDARD
BEGIN:DAYLIGHT
TZOFFSETFROM:-0500
TZOFFSETTO:-0400
TZNAME:EDT
DTSTART:20270314T070000
END:DAYLIGHT
BEGIN:STANDARD
TZOFFSETFROM:-0400
TZOFFSETTO:-0500
TZNAME:EST
DTSTART:20271107T060000
END:STANDARD
END:VTIMEZONE
BEGIN:VEVENT
DTSTART;TZID=America/New_York:20261121T090000
DTEND;TZID=America/New_York:20261121T120000
DTSTAMP:20260422T163347
CREATED:20251216T173609Z
LAST-MODIFIED:20251216T173609Z
UID:10000648-1795251600-1795262400@boynecitymainstreet.com
SUMMARY:Market at the Pavilion
DESCRIPTION:Join us every Saturday at Veterans Park Pavilion from 9am-12pm to shop local vendors. Northern Michigan’s most talented farmers\, bakers\, entrepreneurs and artists create a market unlike any other in the region. Live music brightens up the morning starting at 10am. Stop in to see why we are the Finest Market in the North!
URL:https://boynecitymainstreet.com/event/market-at-the-pavilion-48/
LOCATION:Veterans Park Pavilion\, 207 N Lake St\, Boyne City\, MI\, 49712\, United States
ATTACH;FMTTYPE=image/jpeg:https://boynecitymainstreet.com/wp-content/uploads/2024/11/Farmers-Market-7.jpg
ORGANIZER;CN="Boyne City Farmers Market":MAILTO:farmersmarket@boynecity.com
END:VEVENT
BEGIN:VEVENT
DTSTART;TZID=America/New_York:20261128T090000
DTEND;TZID=America/New_York:20261128T120000
DTSTAMP:20260422T163347
CREATED:20251216T173742Z
LAST-MODIFIED:20251216T173742Z
UID:10000649-1795856400-1795867200@boynecitymainstreet.com
SUMMARY:Market at the Pavilion
DESCRIPTION:Join us every Saturday at Veterans Park Pavilion from 9am-12pm to shop local vendors. Northern Michigan’s most talented farmers\, bakers\, entrepreneurs and artists create a market unlike any other in the region. Live music brightens up the morning starting at 10am. Stop in to see why we are the Finest Market in the North!
URL:https://boynecitymainstreet.com/event/market-at-the-pavilion-49/
LOCATION:Veterans Park Pavilion\, 207 N Lake St\, Boyne City\, MI\, 49712\, United States
ATTACH;FMTTYPE=image/jpeg:https://boynecitymainstreet.com/wp-content/uploads/2023/02/FM-Ceramics.jpg
ORGANIZER;CN="Boyne City Farmers Market":MAILTO:farmersmarket@boynecity.com
END:VEVENT
BEGIN:VEVENT
DTSTART;TZID=America/New_York:20261205T090000
DTEND;TZID=America/New_York:20261205T120000
DTSTAMP:20260422T163347
CREATED:20251216T173857Z
LAST-MODIFIED:20251216T173857Z
UID:10000650-1796461200-1796472000@boynecitymainstreet.com
SUMMARY:Market at the Pavilion
DESCRIPTION:Join us every Saturday at Veterans Park Pavilion from 9am-12pm to shop local vendors. Northern Michigan’s most talented farmers\, bakers\, entrepreneurs and artists create a market unlike any other in the region. Live music brightens up the morning starting at 10am. Stop in to see why we are the Finest Market in the North!
URL:https://boynecitymainstreet.com/event/market-at-the-pavilion-50/
LOCATION:Veterans Park Pavilion\, 207 N Lake St\, Boyne City\, MI\, 49712\, United States
ATTACH;FMTTYPE=image/jpeg:https://boynecitymainstreet.com/wp-content/uploads/2024/11/Farmers-market-9.jpg
ORGANIZER;CN="Boyne City Farmers Market":MAILTO:farmersmarket@boynecity.com
END:VEVENT
BEGIN:VEVENT
DTSTART;TZID=America/New_York:20261212T090000
DTEND;TZID=America/New_York:20261212T120000
DTSTAMP:20260422T163347
CREATED:20251216T174044Z
LAST-MODIFIED:20251216T174044Z
UID:10000651-1797066000-1797076800@boynecitymainstreet.com
SUMMARY:Market at the Pavilion
DESCRIPTION:Join us every Saturday at Veterans Park Pavilion from 9am-12pm to shop local vendors. Northern Michigan’s most talented farmers\, bakers\, entrepreneurs and artists create a market unlike any other in the region. Live music brightens up the morning starting at 10am. Stop in to see why we are the Finest Market in the North!
URL:https://boynecitymainstreet.com/event/market-at-the-pavilion-51/
LOCATION:Veterans Park Pavilion\, 207 N Lake St\, Boyne City\, MI\, 49712\, United States
ATTACH;FMTTYPE=image/jpeg:https://boynecitymainstreet.com/wp-content/uploads/2023/02/boyne-city-farmer-market-maple-syrup.jpg
ORGANIZER;CN="Boyne City Farmers Market":MAILTO:farmersmarket@boynecity.com
END:VEVENT
BEGIN:VEVENT
DTSTART;TZID=America/New_York:20261219T090000
DTEND;TZID=America/New_York:20261219T120000
DTSTAMP:20260422T163347
CREATED:20251216T174207Z
LAST-MODIFIED:20251216T174207Z
UID:10000652-1797670800-1797681600@boynecitymainstreet.com
SUMMARY:Market at the Pavilion
DESCRIPTION:Join us every Saturday at Veterans Park Pavilion from 9am-12pm to shop local vendors. Northern Michigan’s most talented farmers\, bakers\, entrepreneurs and artists create a market unlike any other in the region. Live music brightens up the morning starting at 10am. Stop in to see why we are the Finest Market in the North!
URL:https://boynecitymainstreet.com/event/market-at-the-pavilion-52/
LOCATION:Veterans Park Pavilion\, 207 N Lake St\, Boyne City\, MI\, 49712\, United States
ATTACH;FMTTYPE=image/jpeg:https://boynecitymainstreet.com/wp-content/uploads/2024/11/Farmers-Market-5.jpg
ORGANIZER;CN="Boyne City Farmers Market":MAILTO:farmersmarket@boynecity.com
END:VEVENT
BEGIN:VEVENT
DTSTART;TZID=America/New_York:20261226T090000
DTEND;TZID=America/New_York:20261226T120000
DTSTAMP:20260422T163347
CREATED:20251216T174318Z
LAST-MODIFIED:20251216T174318Z
UID:10000653-1798275600-1798286400@boynecitymainstreet.com
SUMMARY:Market at the Pavilion
DESCRIPTION:Join us every Saturday at Veterans Park Pavilion from 9am-12pm to shop local vendors. Northern Michigan’s most talented farmers\, bakers\, entrepreneurs and artists create a market unlike any other in the region. Live music brightens up the morning starting at 10am. Stop in to see why we are the Finest Market in the North!
URL:https://boynecitymainstreet.com/event/market-at-the-pavilion-53/
LOCATION:Veterans Park Pavilion\, 207 N Lake St\, Boyne City\, MI\, 49712\, United States
ATTACH;FMTTYPE=image/jpeg:https://boynecitymainstreet.com/wp-content/uploads/2024/11/Farmers-market-6.jpg
ORGANIZER;CN="Boyne City Farmers Market":MAILTO:farmersmarket@boynecity.com
END:VEVENT
END:VCALENDAR