BEGIN:VCALENDAR
VERSION:2.0
PRODID:-//Boyne City Main Street - ECPv6.15.18//NONSGML v1.0//EN
CALSCALE:GREGORIAN
METHOD:PUBLISH
X-ORIGINAL-URL:https://boynecitymainstreet.com
X-WR-CALDESC:Events for Boyne City Main Street
REFRESH-INTERVAL;VALUE=DURATION:PT1H
X-Robots-Tag:noindex
X-PUBLISHED-TTL:PT1H
BEGIN:VTIMEZONE
TZID:America/New_York
BEGIN:DAYLIGHT
TZOFFSETFROM:-0500
TZOFFSETTO:-0400
TZNAME:EDT
DTSTART:20250309T070000
END:DAYLIGHT
BEGIN:STANDARD
TZOFFSETFROM:-0400
TZOFFSETTO:-0500
TZNAME:EST
DTSTART:20251102T060000
END:STANDARD
BEGIN:DAYLIGHT
TZOFFSETFROM:-0500
TZOFFSETTO:-0400
TZNAME:EDT
DTSTART:20260308T070000
END:DAYLIGHT
BEGIN:STANDARD
TZOFFSETFROM:-0400
TZOFFSETTO:-0500
TZNAME:EST
DTSTART:20261101T060000
END:STANDARD
BEGIN:DAYLIGHT
TZOFFSETFROM:-0500
TZOFFSETTO:-0400
TZNAME:EDT
DTSTART:20270314T070000
END:DAYLIGHT
BEGIN:STANDARD
TZOFFSETFROM:-0400
TZOFFSETTO:-0500
TZNAME:EST
DTSTART:20271107T060000
END:STANDARD
END:VTIMEZONE
BEGIN:VEVENT
DTSTART;TZID=America/New_York:20260610T080000
DTEND;TZID=America/New_York:20260610T120000
DTSTAMP:20260422T094313
CREATED:20251216T153510Z
LAST-MODIFIED:20251216T155000Z
UID:10000609-1781078400-1781092800@boynecitymainstreet.com
SUMMARY:Boyne City Farmers Market
DESCRIPTION:Join us every Wednesday and Saturday to shop for local fruits & vegetables\, fresh baked goods\, artisan foods and artwork. Northern Michigan’s most talented farmers\, bakers\, entrepreneurs and artists create a market unlike any other in the region. Stop in to see why we are the best Up North Market!
URL:https://boynecitymainstreet.com/event/boyne-city-farmers-market-77/
LOCATION:Veterans Park\, 207 N. Lake St.\, Boyne City\, MI\, 49712
ATTACH;FMTTYPE=image/jpeg:https://boynecitymainstreet.com/wp-content/uploads/2024/11/Farmers-Market-11.jpg
ORGANIZER;CN="Boyne City Farmers Market":MAILTO:farmersmarket@boynecity.com
END:VEVENT
BEGIN:VEVENT
DTSTART;TZID=America/New_York:20260613T080000
DTEND;TZID=America/New_York:20260613T120000
DTSTAMP:20260422T094313
CREATED:20251216T153615Z
LAST-MODIFIED:20251216T154940Z
UID:10000610-1781337600-1781352000@boynecitymainstreet.com
SUMMARY:Boyne City Farmers Market
DESCRIPTION:Join us every Wednesday and Saturday to shop for local fruits & vegetables\, fresh baked goods\, artisan foods and artwork. Northern Michigan’s most talented farmers\, bakers\, entrepreneurs and artists create a market unlike any other in the region. Stop in to see why we are the best Up North Market!
URL:https://boynecitymainstreet.com/event/boyne-city-farmers-market-78/
LOCATION:Veterans Park\, 207 N. Lake St.\, Boyne City\, MI\, 49712
ATTACH;FMTTYPE=image/jpeg:https://boynecitymainstreet.com/wp-content/uploads/2024/12/produce-9.jpg
ORGANIZER;CN="Boyne City Farmers Market":MAILTO:farmersmarket@boynecity.com
END:VEVENT
BEGIN:VEVENT
DTSTART;TZID=America/New_York:20260617T080000
DTEND;TZID=America/New_York:20260617T120000
DTSTAMP:20260422T094313
CREATED:20251216T154127Z
LAST-MODIFIED:20251216T154922Z
UID:10000611-1781683200-1781697600@boynecitymainstreet.com
SUMMARY:Boyne City Farmers Market
DESCRIPTION:Join us every Wednesday and Saturday to shop for local fruits & vegetables\, fresh baked goods\, artisan foods and artwork. Northern Michigan’s most talented farmers\, bakers\, entrepreneurs and artists create a market unlike any other in the region. Stop in to see why we are the best Up North Market!
URL:https://boynecitymainstreet.com/event/boyne-city-farmers-market-79/
LOCATION:Veterans Park\, 207 N. Lake St.\, Boyne City\, MI\, 49712
ATTACH;FMTTYPE=image/jpeg:https://boynecitymainstreet.com/wp-content/uploads/2024/12/produce-14.jpg
ORGANIZER;CN="Boyne City Farmers Market":MAILTO:farmersmarket@boynecity.com
END:VEVENT
BEGIN:VEVENT
DTSTART;TZID=America/New_York:20260620T080000
DTEND;TZID=America/New_York:20260620T120000
DTSTAMP:20260422T094313
CREATED:20251216T155926Z
LAST-MODIFIED:20251216T160008Z
UID:10000612-1781942400-1781956800@boynecitymainstreet.com
SUMMARY:Boyne City Farmers Market
DESCRIPTION:Join us every Wednesday and Saturday to shop for local fruits & vegetables\, fresh baked goods\, artisan foods and artwork. Northern Michigan’s most talented farmers\, bakers\, entrepreneurs and artists create a market unlike any other in the region. Stop in to see why we are the best Up North Market!
URL:https://boynecitymainstreet.com/event/boyne-city-farmers-market-80/
LOCATION:Veterans Park\, 207 N. Lake St.\, Boyne City\, MI\, 49712
ATTACH;FMTTYPE=image/webp:https://boynecitymainstreet.com/wp-content/uploads/2024/12/produce-6.webp
ORGANIZER;CN="Boyne City Farmers Market":MAILTO:farmersmarket@boynecity.com
END:VEVENT
BEGIN:VEVENT
DTSTART;TZID=America/New_York:20260624T080000
DTEND;TZID=America/New_York:20260624T120000
DTSTAMP:20260422T094313
CREATED:20251216T160728Z
LAST-MODIFIED:20251216T162117Z
UID:10000613-1782288000-1782302400@boynecitymainstreet.com
SUMMARY:Boyne City Farmers Market
DESCRIPTION:Join us every Wednesday and Saturday to shop for local fruits & vegetables\, fresh baked goods\, artisan foods and artwork. Northern Michigan’s most talented farmers\, bakers\, entrepreneurs and artists create a market unlike any other in the region. Stop in to see why we are the best Up North Market!
URL:https://boynecitymainstreet.com/event/boyne-city-farmers-market-81/
LOCATION:Veterans Park\, 207 N. Lake St.\, Boyne City\, MI\, 49712
ATTACH;FMTTYPE=image/jpeg:https://boynecitymainstreet.com/wp-content/uploads/2024/12/produce-10.jpg
ORGANIZER;CN="Boyne City Farmers Market":MAILTO:farmersmarket@boynecity.com
END:VEVENT
BEGIN:VEVENT
DTSTART;TZID=America/New_York:20260627T080000
DTEND;TZID=America/New_York:20260627T120000
DTSTAMP:20260422T094313
CREATED:20251216T160913Z
LAST-MODIFIED:20251216T161007Z
UID:10000614-1782547200-1782561600@boynecitymainstreet.com
SUMMARY:Boyne City Farmers Market
DESCRIPTION:Join us every Wednesday and Saturday to shop for local fruits & vegetables\, fresh baked goods\, artisan foods and artwork. Northern Michigan’s most talented farmers\, bakers\, entrepreneurs and artists create a market unlike any other in the region. Stop in to see why we are the best Up North Market!
URL:https://boynecitymainstreet.com/event/boyne-city-farmers-market-82/
LOCATION:Veterans Park\, 207 N. Lake St.\, Boyne City\, MI\, 49712
ATTACH;FMTTYPE=image/jpeg:https://boynecitymainstreet.com/wp-content/uploads/2024/12/farmers-market-12.jpg
ORGANIZER;CN="Boyne City Farmers Market":MAILTO:farmersmarket@boynecity.com
END:VEVENT
BEGIN:VEVENT
DTSTART;TZID=America/New_York:20260701T080000
DTEND;TZID=America/New_York:20260701T120000
DTSTAMP:20260422T094313
CREATED:20251216T161150Z
LAST-MODIFIED:20251216T161150Z
UID:10000615-1782892800-1782907200@boynecitymainstreet.com
SUMMARY:Boyne City Farmers Market
DESCRIPTION:Join us every Wednesday and Saturday to shop for local fruits & vegetables\, fresh baked goods\, artisan foods and artwork. Northern Michigan’s most talented farmers\, bakers\, entrepreneurs and artists create a market unlike any other in the region. Stop in to see why we are the best Up North Market!
URL:https://boynecitymainstreet.com/event/boyne-city-farmers-market-83/
LOCATION:Veterans Park\, 207 N. Lake St.\, Boyne City\, MI\, 49712
ATTACH;FMTTYPE=image/jpeg:https://boynecitymainstreet.com/wp-content/uploads/2023/12/Summer-FM-Zucchini.jpg
ORGANIZER;CN="Boyne City Farmers Market":MAILTO:farmersmarket@boynecity.com
END:VEVENT
BEGIN:VEVENT
DTSTART;TZID=America/New_York:20260704T080000
DTEND;TZID=America/New_York:20260704T120000
DTSTAMP:20260422T094313
CREATED:20251216T161348Z
LAST-MODIFIED:20251223T154751Z
UID:10000616-1783152000-1783166400@boynecitymainstreet.com
SUMMARY:Boyne City Farmers Market
DESCRIPTION:Join us every Wednesday and Saturday to shop for local fruits & vegetables\, fresh baked goods\, artisan foods and artwork. Northern Michigan’s most talented farmers\, bakers\, entrepreneurs and artists create a market unlike any other in the region. Stop in to see why we are the best Up North Market!
URL:https://boynecitymainstreet.com/event/boyne-city-farmers-market-84/
LOCATION:Old City Park
ATTACH;FMTTYPE=image/jpeg:https://boynecitymainstreet.com/wp-content/uploads/2023/08/FM-Potatoes-Tomatoes-Cukes.jpg
ORGANIZER;CN="Boyne City Farmers Market":MAILTO:farmersmarket@boynecity.com
END:VEVENT
BEGIN:VEVENT
DTSTART;TZID=America/New_York:20260708T080000
DTEND;TZID=America/New_York:20260708T120000
DTSTAMP:20260422T094313
CREATED:20251216T161525Z
LAST-MODIFIED:20251216T161525Z
UID:10000617-1783497600-1783512000@boynecitymainstreet.com
SUMMARY:Boyne City Farmers Market
DESCRIPTION:Join us every Wednesday and Saturday to shop for local fruits & vegetables\, fresh baked goods\, artisan foods and artwork. Northern Michigan’s most talented farmers\, bakers\, entrepreneurs and artists create a market unlike any other in the region. Stop in to see why we are the best Up North Market!
URL:https://boynecitymainstreet.com/event/boyne-city-farmers-market-85/
LOCATION:Veterans Park\, 207 N. Lake St.\, Boyne City\, MI\, 49712
ATTACH;FMTTYPE=image/jpeg:https://boynecitymainstreet.com/wp-content/uploads/2023/04/Capture-2.jpg
ORGANIZER;CN="Boyne City Farmers Market":MAILTO:farmersmarket@boynecity.com
END:VEVENT
BEGIN:VEVENT
DTSTART;TZID=America/New_York:20260711T080000
DTEND;TZID=America/New_York:20260711T120000
DTSTAMP:20260422T094313
CREATED:20251216T161707Z
LAST-MODIFIED:20251223T154652Z
UID:10000618-1783756800-1783771200@boynecitymainstreet.com
SUMMARY:Boyne City Farmers Market
DESCRIPTION:Join us every Wednesday and Saturday to shop for local fruits & vegetables\, fresh baked goods\, artisan foods and artwork. Northern Michigan’s most talented farmers\, bakers\, entrepreneurs and artists create a market unlike any other in the region. Stop in to see why we are the best Up North Market!
URL:https://boynecitymainstreet.com/event/boyne-city-farmers-market-86/
LOCATION:Old City Park
ATTACH;FMTTYPE=image/jpeg:https://boynecitymainstreet.com/wp-content/uploads/2023/02/FM-Winnies.jpg
ORGANIZER;CN="Boyne City Farmers Market":MAILTO:farmersmarket@boynecity.com
END:VEVENT
BEGIN:VEVENT
DTSTART;TZID=America/New_York:20260715T080000
DTEND;TZID=America/New_York:20260715T120000
DTSTAMP:20260422T094313
CREATED:20251216T161822Z
LAST-MODIFIED:20251216T161822Z
UID:10000619-1784102400-1784116800@boynecitymainstreet.com
SUMMARY:Boyne City Farmers Market
DESCRIPTION:Join us every Wednesday and Saturday to shop for local fruits & vegetables\, fresh baked goods\, artisan foods and artwork. Northern Michigan’s most talented farmers\, bakers\, entrepreneurs and artists create a market unlike any other in the region. Stop in to see why we are the best Up North Market!
URL:https://boynecitymainstreet.com/event/boyne-city-farmers-market-87/
LOCATION:Veterans Park\, 207 N. Lake St.\, Boyne City\, MI\, 49712
ATTACH;FMTTYPE=image/jpeg:https://boynecitymainstreet.com/wp-content/uploads/2024/12/produce-3-scaled.jpg
ORGANIZER;CN="Boyne City Farmers Market":MAILTO:farmersmarket@boynecity.com
END:VEVENT
BEGIN:VEVENT
DTSTART;TZID=America/New_York:20260718T080000
DTEND;TZID=America/New_York:20260718T120000
DTSTAMP:20260422T094313
CREATED:20251216T162315Z
LAST-MODIFIED:20251216T162442Z
UID:10000620-1784361600-1784376000@boynecitymainstreet.com
SUMMARY:Boyne City Farmers Market
DESCRIPTION:Join us every Wednesday and Saturday to shop for local fruits & vegetables\, fresh baked goods\, artisan foods and artwork. Northern Michigan’s most talented farmers\, bakers\, entrepreneurs and artists create a market unlike any other in the region. Stop in to see why we are the best Up North Market!
URL:https://boynecitymainstreet.com/event/boyne-city-farmers-market-88/
LOCATION:Veterans Park\, 207 N. Lake St.\, Boyne City\, MI\, 49712
ATTACH;FMTTYPE=image/webp:https://boynecitymainstreet.com/wp-content/uploads/2024/12/produce-7.webp
ORGANIZER;CN="Boyne City Farmers Market":MAILTO:farmersmarket@boynecity.com
END:VEVENT
BEGIN:VEVENT
DTSTART;TZID=America/New_York:20260722T080000
DTEND;TZID=America/New_York:20260722T120000
DTSTAMP:20260422T094313
CREATED:20251216T162742Z
LAST-MODIFIED:20251216T162742Z
UID:10000621-1784707200-1784721600@boynecitymainstreet.com
SUMMARY:Boyne City Farmers Market
DESCRIPTION:Join us every Wednesday and Saturday to shop for local fruits & vegetables\, fresh baked goods\, artisan foods and artwork. Northern Michigan’s most talented farmers\, bakers\, entrepreneurs and artists create a market unlike any other in the region. Stop in to see why we are the best Up North Market!
URL:https://boynecitymainstreet.com/event/boyne-city-farmers-market-89/
LOCATION:Veterans Park\, 207 N. Lake St.\, Boyne City\, MI\, 49712
ATTACH;FMTTYPE=image/jpeg:https://boynecitymainstreet.com/wp-content/uploads/2023/02/FM-Rustic-Baker.jpg
ORGANIZER;CN="Boyne City Farmers Market":MAILTO:farmersmarket@boynecity.com
END:VEVENT
BEGIN:VEVENT
DTSTART;TZID=America/New_York:20260723T170000
DTEND;TZID=America/New_York:20260723T210000
DTSTAMP:20260422T094313
CREATED:20260120T153941Z
LAST-MODIFIED:20260120T153941Z
UID:10000680-1784826000-1784840400@boynecitymainstreet.com
SUMMARY:Food Truck Rally
DESCRIPTION:This fun family-focused event has become a highlight of our summer with live music\, beer\, wine and spirits\, and food trucks from around the region.  Bring your appetite and sense of culinary adventure!
URL:https://boynecitymainstreet.com/event/food-truck-rally-4/
LOCATION:Veterans Park\, 207 N. Lake St.\, Boyne City\, MI\, 49712
ATTACH;FMTTYPE=image/jpeg:https://boynecitymainstreet.com/wp-content/uploads/2023/07/FoodTruckRallyLogo.jpg
ORGANIZER;CN="Boyne City Farmers Market":MAILTO:farmersmarket@boynecity.com
END:VEVENT
BEGIN:VEVENT
DTSTART;TZID=America/New_York:20260725T080000
DTEND;TZID=America/New_York:20260725T120000
DTSTAMP:20260422T094313
CREATED:20251216T162906Z
LAST-MODIFIED:20251216T162906Z
UID:10000622-1784966400-1784980800@boynecitymainstreet.com
SUMMARY:Boyne City Farmers Market
DESCRIPTION:Join us every Wednesday and Saturday to shop for local fruits & vegetables\, fresh baked goods\, artisan foods and artwork. Northern Michigan’s most talented farmers\, bakers\, entrepreneurs and artists create a market unlike any other in the region. Stop in to see why we are the best Up North Market!
URL:https://boynecitymainstreet.com/event/boyne-city-farmers-market-90/
LOCATION:Veterans Park\, 207 N. Lake St.\, Boyne City\, MI\, 49712
ATTACH;FMTTYPE=image/jpeg:https://boynecitymainstreet.com/wp-content/uploads/2023/12/Summer-FM-Micro-Greens.jpg
ORGANIZER;CN="Boyne City Farmers Market":MAILTO:farmersmarket@boynecity.com
END:VEVENT
BEGIN:VEVENT
DTSTART;TZID=America/New_York:20260729T080000
DTEND;TZID=America/New_York:20260729T120000
DTSTAMP:20260422T094313
CREATED:20251216T163244Z
LAST-MODIFIED:20251216T163244Z
UID:10000623-1785312000-1785326400@boynecitymainstreet.com
SUMMARY:Boyne City Farmers Market
DESCRIPTION:Join us every Wednesday and Saturday to shop for local fruits & vegetables\, fresh baked goods\, artisan foods and artwork. Northern Michigan’s most talented farmers\, bakers\, entrepreneurs and artists create a market unlike any other in the region. Stop in to see why we are the best Up North Market!
URL:https://boynecitymainstreet.com/event/boyne-city-farmers-market-91/
LOCATION:Veterans Park\, 207 N. Lake St.\, Boyne City\, MI\, 49712
ATTACH;FMTTYPE=image/jpeg:https://boynecitymainstreet.com/wp-content/uploads/2023/02/FM-Mikes-Mustard.jpg
ORGANIZER;CN="Boyne City Farmers Market":MAILTO:farmersmarket@boynecity.com
END:VEVENT
BEGIN:VEVENT
DTSTART;TZID=America/New_York:20260801T080000
DTEND;TZID=America/New_York:20260801T120000
DTSTAMP:20260422T094313
CREATED:20251216T163758Z
LAST-MODIFIED:20251216T163853Z
UID:10000624-1785571200-1785585600@boynecitymainstreet.com
SUMMARY:Boyne City Farmers Market
DESCRIPTION:Join us every Wednesday and Saturday to shop for local fruits & vegetables\, fresh baked goods\, artisan foods and artwork. Northern Michigan’s most talented farmers\, bakers\, entrepreneurs and artists create a market unlike any other in the region. Stop in to see why we are the best Up North Market!
URL:https://boynecitymainstreet.com/event/boyne-city-farmers-market-92/
LOCATION:Veterans Park\, 207 N. Lake St.\, Boyne City\, MI\, 49712
ATTACH;FMTTYPE=image/jpeg:https://boynecitymainstreet.com/wp-content/uploads/2023/01/boyne-city-farmer-market-veggies.jpg
ORGANIZER;CN="Boyne City Farmers Market":MAILTO:farmersmarket@boynecity.com
END:VEVENT
BEGIN:VEVENT
DTSTART;TZID=America/New_York:20260805T080000
DTEND;TZID=America/New_York:20260805T120000
DTSTAMP:20260422T094313
CREATED:20251216T164425Z
LAST-MODIFIED:20251216T164425Z
UID:10000625-1785916800-1785931200@boynecitymainstreet.com
SUMMARY:Boyne City Farmers Market
DESCRIPTION:Join us every Wednesday and Saturday to shop for local fruits & vegetables\, fresh baked goods\, artisan foods and artwork. Northern Michigan’s most talented farmers\, bakers\, entrepreneurs and artists create a market unlike any other in the region. Stop in to see why we are the best Up North Market!
URL:https://boynecitymainstreet.com/event/boyne-city-farmers-market-93/
LOCATION:Veterans Park\, 207 N. Lake St.\, Boyne City\, MI\, 49712
ATTACH;FMTTYPE=image/jpeg:https://boynecitymainstreet.com/wp-content/uploads/2024/12/produce-5-scaled.jpg
ORGANIZER;CN="Boyne City Farmers Market":MAILTO:farmersmarket@boynecity.com
END:VEVENT
BEGIN:VEVENT
DTSTART;TZID=America/New_York:20260808T080000
DTEND;TZID=America/New_York:20260808T120000
DTSTAMP:20260422T094313
CREATED:20251216T164610Z
LAST-MODIFIED:20251216T164610Z
UID:10000626-1786176000-1786190400@boynecitymainstreet.com
SUMMARY:Boyne City Farmers Market
DESCRIPTION:Join us every Wednesday and Saturday to shop for local fruits & vegetables\, fresh baked goods\, artisan foods and artwork. Northern Michigan’s most talented farmers\, bakers\, entrepreneurs and artists create a market unlike any other in the region. Stop in to see why we are the best Up North Market!
URL:https://boynecitymainstreet.com/event/boyne-city-farmers-market-94/
LOCATION:Veterans Park\, 207 N. Lake St.\, Boyne City\, MI\, 49712
ATTACH;FMTTYPE=image/webp:https://boynecitymainstreet.com/wp-content/uploads/2024/12/produce-4.webp
ORGANIZER;CN="Boyne City Farmers Market":MAILTO:farmersmarket@boynecity.com
END:VEVENT
BEGIN:VEVENT
DTSTART;TZID=America/New_York:20260812T080000
DTEND;TZID=America/New_York:20260812T120000
DTSTAMP:20260422T094313
CREATED:20251216T164745Z
LAST-MODIFIED:20251216T164745Z
UID:10000627-1786521600-1786536000@boynecitymainstreet.com
SUMMARY:Boyne City Farmers Market
DESCRIPTION:Join us every Wednesday and Saturday to shop for local fruits & vegetables\, fresh baked goods\, artisan foods and artwork. Northern Michigan’s most talented farmers\, bakers\, entrepreneurs and artists create a market unlike any other in the region. Stop in to see why we are the best Up North Market!
URL:https://boynecitymainstreet.com/event/boyne-city-farmers-market-95/
LOCATION:Veterans Park\, 207 N. Lake St.\, Boyne City\, MI\, 49712
ATTACH;FMTTYPE=image/jpeg:https://boynecitymainstreet.com/wp-content/uploads/2023/02/FM-Hammond-Honey.jpg
ORGANIZER;CN="Boyne City Farmers Market":MAILTO:farmersmarket@boynecity.com
END:VEVENT
BEGIN:VEVENT
DTSTART;TZID=America/New_York:20260815T080000
DTEND;TZID=America/New_York:20260815T120000
DTSTAMP:20260422T094313
CREATED:20251216T164931Z
LAST-MODIFIED:20251216T164931Z
UID:10000628-1786780800-1786795200@boynecitymainstreet.com
SUMMARY:Boyne City Farmers Market
DESCRIPTION:Join us every Wednesday and Saturday to shop for local fruits & vegetables\, fresh baked goods\, artisan foods and artwork. Northern Michigan’s most talented farmers\, bakers\, entrepreneurs and artists create a market unlike any other in the region. Stop in to see why we are the best Up North Market!
URL:https://boynecitymainstreet.com/event/boyne-city-farmers-market-96/
LOCATION:Veterans Park\, 207 N. Lake St.\, Boyne City\, MI\, 49712
ATTACH;FMTTYPE=image/jpeg:https://boynecitymainstreet.com/wp-content/uploads/2023/08/FM-Potatoes-Tomatoes-Cukes.jpg
ORGANIZER;CN="Boyne City Farmers Market":MAILTO:farmersmarket@boynecity.com
END:VEVENT
BEGIN:VEVENT
DTSTART;TZID=America/New_York:20260819T080000
DTEND;TZID=America/New_York:20260819T120000
DTSTAMP:20260422T094313
CREATED:20251216T165057Z
LAST-MODIFIED:20251216T165057Z
UID:10000629-1787126400-1787140800@boynecitymainstreet.com
SUMMARY:Boyne City Farmers Market
DESCRIPTION:Join us every Wednesday and Saturday to shop for local fruits & vegetables\, fresh baked goods\, artisan foods and artwork. Northern Michigan’s most talented farmers\, bakers\, entrepreneurs and artists create a market unlike any other in the region. Stop in to see why we are the best Up North Market!
URL:https://boynecitymainstreet.com/event/boyne-city-farmers-market-97/
LOCATION:Veterans Park\, 207 N. Lake St.\, Boyne City\, MI\, 49712
ATTACH;FMTTYPE=image/jpeg:https://boynecitymainstreet.com/wp-content/uploads/2023/12/Summer-FM-Baked-Goods.jpg
ORGANIZER;CN="Boyne City Farmers Market":MAILTO:farmersmarket@boynecity.com
END:VEVENT
BEGIN:VEVENT
DTSTART;TZID=America/New_York:20260822T080000
DTEND;TZID=America/New_York:20260822T120000
DTSTAMP:20260422T094313
CREATED:20251216T165430Z
LAST-MODIFIED:20251216T165430Z
UID:10000630-1787385600-1787400000@boynecitymainstreet.com
SUMMARY:Boyne City Farmers Market
DESCRIPTION:Join us every Wednesday and Saturday to shop for local fruits & vegetables\, fresh baked goods\, artisan foods and artwork. Northern Michigan’s most talented farmers\, bakers\, entrepreneurs and artists create a market unlike any other in the region. Stop in to see why we are the best Up North Market!
URL:https://boynecitymainstreet.com/event/boyne-city-farmers-market-98/
LOCATION:Veterans Park\, 207 N. Lake St.\, Boyne City\, MI\, 49712
ATTACH;FMTTYPE=image/jpeg:https://boynecitymainstreet.com/wp-content/uploads/2024/12/produce-9.jpg
ORGANIZER;CN="Boyne City Farmers Market":MAILTO:farmersmarket@boynecity.com
END:VEVENT
BEGIN:VEVENT
DTSTART;TZID=America/New_York:20260826T080000
DTEND;TZID=America/New_York:20260826T120000
DTSTAMP:20260422T094313
CREATED:20251216T165703Z
LAST-MODIFIED:20251216T165817Z
UID:10000631-1787731200-1787745600@boynecitymainstreet.com
SUMMARY:Boyne City Farmers Market
DESCRIPTION:Join us every Wednesday and Saturday to shop for local fruits & vegetables\, fresh baked goods\, artisan foods and artwork. Northern Michigan’s most talented farmers\, bakers\, entrepreneurs and artists create a market unlike any other in the region. Stop in to see why we are the best Up North Market!
URL:https://boynecitymainstreet.com/event/boyne-city-farmers-market-99/
LOCATION:Veterans Park\, 207 N. Lake St.\, Boyne City\, MI\, 49712
ATTACH;FMTTYPE=image/jpeg:https://boynecitymainstreet.com/wp-content/uploads/2023/12/Summer-FM-Tomatoes.jpg
ORGANIZER;CN="Boyne City Farmers Market":MAILTO:farmersmarket@boynecity.com
END:VEVENT
BEGIN:VEVENT
DTSTART;TZID=America/New_York:20260829T080000
DTEND;TZID=America/New_York:20260829T120000
DTSTAMP:20260422T094313
CREATED:20251216T165935Z
LAST-MODIFIED:20251216T165935Z
UID:10000632-1787990400-1788004800@boynecitymainstreet.com
SUMMARY:Boyne City Farmers Market
DESCRIPTION:Join us every Wednesday and Saturday to shop for local fruits & vegetables\, fresh baked goods\, artisan foods and artwork. Northern Michigan’s most talented farmers\, bakers\, entrepreneurs and artists create a market unlike any other in the region. Stop in to see why we are the best Up North Market!
URL:https://boynecitymainstreet.com/event/boyne-city-farmers-market-100/
LOCATION:Veterans Park\, 207 N. Lake St.\, Boyne City\, MI\, 49712
ATTACH;FMTTYPE=image/jpeg:https://boynecitymainstreet.com/wp-content/uploads/2024/11/Farmers-market-6.jpg
ORGANIZER;CN="Boyne City Farmers Market":MAILTO:farmersmarket@boynecity.com
END:VEVENT
BEGIN:VEVENT
DTSTART;TZID=America/New_York:20260902T080000
DTEND;TZID=America/New_York:20260902T120000
DTSTAMP:20260422T094313
CREATED:20251216T170133Z
LAST-MODIFIED:20251216T170133Z
UID:10000633-1788336000-1788350400@boynecitymainstreet.com
SUMMARY:Boyne City Farmers Market
DESCRIPTION:Join us every Wednesday and Saturday to shop for local fruits & vegetables\, fresh baked goods\, artisan foods and artwork. Northern Michigan’s most talented farmers\, bakers\, entrepreneurs and artists create a market unlike any other in the region. Stop in to see why we are the best Up North Market!
URL:https://boynecitymainstreet.com/event/boyne-city-farmers-market-101/
LOCATION:Veterans Park\, 207 N. Lake St.\, Boyne City\, MI\, 49712
ATTACH;FMTTYPE=image/jpeg:https://boynecitymainstreet.com/wp-content/uploads/2023/09/IMG_2193-rotated.jpg
ORGANIZER;CN="Boyne City Farmers Market":MAILTO:farmersmarket@boynecity.com
END:VEVENT
BEGIN:VEVENT
DTSTART;TZID=America/New_York:20260905T080000
DTEND;TZID=America/New_York:20260905T120000
DTSTAMP:20260422T094313
CREATED:20251216T170252Z
LAST-MODIFIED:20251216T170252Z
UID:10000634-1788595200-1788609600@boynecitymainstreet.com
SUMMARY:Boyne City Farmers Market
DESCRIPTION:Join us every Wednesday and Saturday to shop for local fruits & vegetables\, fresh baked goods\, artisan foods and artwork. Northern Michigan’s most talented farmers\, bakers\, entrepreneurs and artists create a market unlike any other in the region. Stop in to see why we are the best Up North Market!
URL:https://boynecitymainstreet.com/event/boyne-city-farmers-market-102/
LOCATION:Veterans Park\, 207 N. Lake St.\, Boyne City\, MI\, 49712
ATTACH;FMTTYPE=image/jpeg:https://boynecitymainstreet.com/wp-content/uploads/2024/12/produce-5-scaled.jpg
ORGANIZER;CN="Boyne City Farmers Market":MAILTO:farmersmarket@boynecity.com
END:VEVENT
BEGIN:VEVENT
DTSTART;TZID=America/New_York:20260909T080000
DTEND;TZID=America/New_York:20260909T120000
DTSTAMP:20260422T094313
CREATED:20251216T170441Z
LAST-MODIFIED:20251216T170441Z
UID:10000635-1788940800-1788955200@boynecitymainstreet.com
SUMMARY:Boyne City Farmers Market
DESCRIPTION:Join us every Wednesday and Saturday to shop for local fruits & vegetables\, fresh baked goods\, artisan foods and artwork. Northern Michigan’s most talented farmers\, bakers\, entrepreneurs and artists create a market unlike any other in the region. Stop in to see why we are the best Up North Market!
URL:https://boynecitymainstreet.com/event/boyne-city-farmers-market-103/
LOCATION:Veterans Park\, 207 N. Lake St.\, Boyne City\, MI\, 49712
ATTACH;FMTTYPE=image/jpeg:https://boynecitymainstreet.com/wp-content/uploads/2023/02/FM-Lucys.jpg
ORGANIZER;CN="Boyne City Farmers Market":MAILTO:farmersmarket@boynecity.com
END:VEVENT
BEGIN:VEVENT
DTSTART;TZID=America/New_York:20260912T080000
DTEND;TZID=America/New_York:20260912T120000
DTSTAMP:20260422T094313
CREATED:20251216T170600Z
LAST-MODIFIED:20251216T170600Z
UID:10000636-1789200000-1789214400@boynecitymainstreet.com
SUMMARY:Boyne City Farmers Market
DESCRIPTION:Join us every Wednesday and Saturday to shop for local fruits & vegetables\, fresh baked goods\, artisan foods and artwork. Northern Michigan’s most talented farmers\, bakers\, entrepreneurs and artists create a market unlike any other in the region. Stop in to see why we are the best Up North Market!
URL:https://boynecitymainstreet.com/event/boyne-city-farmers-market-104/
LOCATION:Veterans Park\, 207 N. Lake St.\, Boyne City\, MI\, 49712
ATTACH;FMTTYPE=image/jpeg:https://boynecitymainstreet.com/wp-content/uploads/2024/12/Farmers-Market-15.jpg
ORGANIZER;CN="Boyne City Farmers Market":MAILTO:farmersmarket@boynecity.com
END:VEVENT
BEGIN:VEVENT
DTSTART;TZID=America/New_York:20260916T080000
DTEND;TZID=America/New_York:20260916T120000
DTSTAMP:20260422T094313
CREATED:20251216T170719Z
LAST-MODIFIED:20251216T170719Z
UID:10000637-1789545600-1789560000@boynecitymainstreet.com
SUMMARY:Boyne City Farmers Market
DESCRIPTION:Join us every Wednesday and Saturday to shop for local fruits & vegetables\, fresh baked goods\, artisan foods and artwork. Northern Michigan’s most talented farmers\, bakers\, entrepreneurs and artists create a market unlike any other in the region. Stop in to see why we are the best Up North Market!
URL:https://boynecitymainstreet.com/event/boyne-city-farmers-market-105/
LOCATION:Veterans Park\, 207 N. Lake St.\, Boyne City\, MI\, 49712
ATTACH;FMTTYPE=image/jpeg:https://boynecitymainstreet.com/wp-content/uploads/2024/12/farmers-market-13.jpg
ORGANIZER;CN="Boyne City Farmers Market":MAILTO:farmersmarket@boynecity.com
END:VEVENT
END:VCALENDAR